BEGIN:VCALENDAR
PRODID:-//eluceo/ical//2.0/EN
VERSION:2.0
CALSCALE:GREGORIAN
BEGIN:VEVENT
UID:6e2c652ff672bcc3afa254bc9c1da54e
DTSTAMP:20260421T084232Z
SUMMARY:le 18 mars 2017 18H  "La Belle et la Bête" (en "live" et animation
 s)
DESCRIPTION:www.espoir-en-tete.org/espoir-en-tete (Bande annonce)  \n\n15
 € dont 9€ à la recherche sur le cerveau.\n\nAvant-première caritativ
 e. La séance débutera par une courte intervention d’1/4h d’un cherch
 eur ayant bénéficié du soutien de cette opération.
URL:https://belleville-en-beaujolais.rotary1710.org/fr/agenda/show/6859
DTSTART;TZID=Europe/Zurich:20170318T000000
DTEND;TZID=Europe/Zurich:20170318T000000
LOCATION: Cinéma Le SingulierS de Belleville
CATEGORIES:Rotary
END:VEVENT
BEGIN:VTIMEZONE
TZID:Europe/Zurich
BEGIN:STANDARD
DTSTART:20170318T000000
TZNAME:CET
TZOFFSETTO:+0100
TZOFFSETFROM:+0100
END:STANDARD
END:VTIMEZONE
END:VCALENDAR
